BEGIN:VCALENDAR
VERSION:2.0
PRODID:icalendar-ruby
CALSCALE:GREGORIAN
METHOD:PUBLISH
BEGIN:VEVENT
DTSTAMP:20260423T231027Z
UID:8-2219169@lifepointenaz.com
DTSTART:20261028T163000Z
DTEND:20261029T063000Z
CLASS:PUBLIC
CREATED:20260423T134446
DESCRIPTION:Led by Pastor Richard\, the Geezers gather every Wednesday at 9
 :30 am for prayer\, Bible study\, and some light-hearted mischief. If you'
 re aged 55 or older\, we welcome you to join us\, but don't tell the young
 er folks how much fun we're havin'.
LAST-MODIFIED:20260423T134446
LOCATION:LifePointe Church: Room 201
SUMMARY:Geezers
URL;VALUE=URI:https://lifepointenaz.com/events/geezers/2026-10-28
ATTACH;FILENAME=geezers.png;FMTTYPE=image/png:https://dq5pwpg1q8ru0.cloudfr
 ont.net/2023/10/09/09/32/38/b41cbef3-525e-4804-99d0-1079d2c29428/geezers.p
 ng
END:VEVENT
END:VCALENDAR
