BEGIN:VCALENDAR
VERSION:2.0
PRODID:icalendar-ruby
CALSCALE:GREGORIAN
METHOD:PUBLISH
BEGIN:VEVENT
DTSTAMP:20260422T112454Z
UID:31-2202475@lifepointenaz.com
DTSTART:20261101T184500Z
DTEND:20261101T201500Z
CLASS:PUBLIC
CREATED:20260421T175510
DESCRIPTION:The Lu-Mein Language Worship Service is a vibrant and welcoming
  time of worship for the Lu-Mein community. Gather together for a time of 
 heartfelt praise\, powerful teaching\, and meaningful connection with othe
 rs who share your culture and faith.\nWhat to Expect:\n\n\nSpirit-Filled W
 orship: Uplifting music that celebrates the heritage and faith of the Lu-M
 ein people.\n\n\nBiblical Teaching: Inspiring\, Scripture-based messages t
 hat speak to the challenges and opportunities of daily life.\n\n\nCommunit
 y Connection: Build lasting friendships and support one another as we grow
  in faith together.\n\n\nPrayer and Ministry: Experience the power of pray
 er in your heart language\, surrounded by a loving and supportive communit
 y.\n\n\nWhether you are new to faith or a lifelong believer\, you are welc
 ome here. Join us this Sunday and discover a place where your story matter
 s\, and your faith can flourish.
LAST-MODIFIED:20260421T175510
LOCATION:Building 2
SUMMARY:Mienh Service
URL;VALUE=URI:https://lifepointenaz.com/events/mienh-service/2026-11-01
END:VEVENT
END:VCALENDAR
