BEGIN:VCALENDAR
VERSION:2.0
PRODID:icalendar-ruby
CALSCALE:GREGORIAN
METHOD:PUBLISH
BEGIN:VEVENT
DTSTAMP:20260422T070608Z
UID:29-2202156@lifepointenaz.com
DTSTART:20261014T233000Z
DTEND:20261015T010000Z
CLASS:PUBLIC
CREATED:20260421T175509
DESCRIPTION:Powered by Prayer is a diverse and dedicated group that comes t
 ogether with open hearts and minds to pray about anything and everything. 
 Whether it's community challenges\, personal struggles\, or global issues\
 , they create a sacred space where people can share their concerns and hop
 es. Through the power of collective prayer\, they aim to provide comfort\,
  support\, and a sense of unity. Powered by Prayer's gatherings are a test
 ament to the belief that no concern is too small or too big to bring to Je
 sus\, fostering a strong sense of community and connection among its membe
 rs.
LAST-MODIFIED:20260421T175509
LOCATION:LifePointe Church: Building 1
SUMMARY:Powered by Prayer 
URL;VALUE=URI:https://lifepointenaz.com/events/powered-by-prayer/2026-10-14
ATTACH;FILENAME=Website event cover  (12).png;FMTTYPE=image/png:https://dq5
 pwpg1q8ru0.cloudfront.net/2023/10/12/14/10/42/3418a7c0-16d3-4fa6-b493-c963
 2b928923/Website%20event%20cover%20%20(12).png
END:VEVENT
END:VCALENDAR
