BEGIN:VCALENDAR
VERSION:2.0
PRODID:icalendar-ruby
CALSCALE:GREGORIAN
METHOD:PUBLISH
BEGIN:VEVENT
DTSTAMP:20260425T212829Z
UID:54-2242240@lifepointenaz.com
DTSTART:20260903T013000Z
DTEND:20260903T030000Z
CLASS:PUBLIC
CREATED:20260425T125322
DESCRIPTION:THIS ISN'T YOUR AVERAGE BIBLE STUDY!\n \nExplore God's Word on
  a deeper level and engage with his truth in fresh ways! This study of ten
  psalms of hope invites you to discover the incredible design and purpose 
 inspired Hebrew poetry. \n\n\nThis study offers compelling teachings\, mo
 tivating devotions\, and plenty of creative options for interacting with t
 he psalms - including beautiful artwork to color. This discovery book will
  show you how to.....\n* Rejoice in God's Mercy when sin knocks you down\n
 * Request help with hope when troubles surround\n* Respond with thanksgivi
 ng for each answered prayer\n \nImmerse your mind\, heart. and soul in th
 e hope flowing through the psalms. 
LAST-MODIFIED:20260425T125322
LOCATION:Lifepointe Church\, Room 201
SUMMARY:Women's Wednesday Night Bible Study
URL;VALUE=URI:https://lifepointenaz.com/events/womens-wednesday-night-bible
 -study--54/2026-09-02
END:VEVENT
END:VCALENDAR
