BEGIN:VCALENDAR
VERSION:2.0
PRODID:icalendar-ruby
CALSCALE:GREGORIAN
METHOD:PUBLISH
BEGIN:VEVENT
DTSTAMP:20260424T011411Z
UID:19-2221776@lifepointenaz.com
DTSTART:20261015T013000Z
DTEND:20261015T030000Z
CLASS:PUBLIC
CREATED:20260423T163831
DESCRIPTION:Wednesday nights at 6:30pm come alive with the vibrant energy o
 f our SWAG youth group\, welcoming young hearts from 6th to 12th grade. La
 ughter and excitement fill the air as they gather for an evening of games 
 that build bonds and foster a sense of companionship. The sound of worship
  songs resonates throughout the room\, drawing these young souls closer to
  their faith and the transformative love of Jesus. As they engage in heart
 felt conversations\, enjoy tasty snacks\, and move to the rhythm of uplift
 ing music\, it's clear that this gathering is more than just a youth group
 \; it's a sanctuary of friendship\, spiritual growth\, and unwavering supp
 ort. Together\, they navigate the challenges of adolescence\, finding sola
 ce and strength in both their shared faith journey and the comforting embr
 ace of cherished friends. Sunday Mornings at 10am or Wednesday Nights at 6
 :30pm
LAST-MODIFIED:20260423T163831
LOCATION:LifePointe Church: Upstairs\, Room 303
SUMMARY:Youth Group - Wednesday
URL;VALUE=URI:https://lifepointenaz.com/events/youth-group-wednesday/2026-1
 0-14
ATTACH;FILENAME=Website event cover  (1).png;FMTTYPE=image/png:https://dq5p
 wpg1q8ru0.cloudfront.net/2023/10/11/13/45/51/425eeacd-a83d-426f-af1b-739a2
 490e971/Website%20event%20cover%20%20(1).png
END:VEVENT
END:VCALENDAR
